{
 "currentVersion": 10.61,
 "serviceDescription": "Topografi BIG",
 "mapName": "Layers",
 "description": "",
 "copyrightText": "BIG",
 "supportsDynamicLayers": false,
 "layers": [
  {
   "id": 0,
   "name": "ina_topografi_grey.tif",
   "parentLayerId": -1,
   "defaultVisibility": true,
   "subLayerIds": null,
   "minScale": 0,
   "maxScale": 0
  }
 ],
 "tables": [],
 "spatialReference": {
  "wkid": 102100,
  "latestWkid": 3857
 },
 "initialExtent": {
  "xmin": 9721840.322293198,
  "ymin": -1914868.521481217,
  "xmax": 1.63269495042758E7,
  "ymax": 1370185.7802315536,
  "spatialReference": {
   "cs": "pcs",
   "wkid": 102100
  }
 },
 "fullExtent": {
  "xmin": 1.0018707788273457E7,
  "ymin": -1689340.3639927465,
  "xmax": 1.6030082038295545E7,
  "ymax": 1118937.0735437297,
  "spatialReference": {
   "cs": "pcs",
   "wkid": 102100
  }
 },
 "units": "esriMeters",
 "supportedImageFormatTypes": "PNG32,PNG24,PNG,JPG,DIB,TIFF,EMF,PS,PDF,GIF,SVG,SVGZ,BMP",
 "documentInfo": {
  "Title": "Topografi BIG",
  "Author": "BIG",
  "Comments": "Topografi BIG",
  "Subject": "Topografi BIG",
  "Category": "",
  "AntialiasingMode": "Best",
  "TextAntialiasingMode": "Force",
  "Keywords": "BIG, RBI, BMKG"
 },
 "supportedQueryFormats": "JSON, AMF, geoJSON",
 "supportsDatumTransformation": true,
 "maxRecordCount": 1000,
 "maxImageHeight": 4096,
 "maxImageWidth": 4096,
 "tileInfo": {
  "rows": 256,
  "cols": 256,
  "dpi": 96,
  "format": "MIXED",
  "compressionQuality": 75,
  "origin": {
   "x": -2.0037508342787E7,
   "y": 2.0037508342787E7
  },
  "spatialReference": {
   "wkid": 102100,
   "latestWkid": 3857
  },
  "lods": [
   {
    "level": 0,
    "resolution": 156543.033928,
    "scale": 5.91657527591555E8
   },
   {
    "level": 1,
    "resolution": 78271.5169639999,
    "scale": 2.95828763795777E8
   },
   {
    "level": 2,
    "resolution": 39135.7584820001,
    "scale": 1.47914381897889E8
   },
   {
    "level": 3,
    "resolution": 19567.8792409999,
    "scale": 7.3957190948944E7
   },
   {
    "level": 4,
    "resolution": 9783.93962049996,
    "scale": 3.6978595474472E7
   },
   {
    "level": 5,
    "resolution": 4891.96981024998,
    "scale": 1.8489297737236E7
   },
   {
    "level": 6,
    "resolution": 2445.98490512499,
    "scale": 9244648.868618
   },
   {
    "level": 7,
    "resolution": 1222.99245256249,
    "scale": 4622324.434309
   },
   {
    "level": 8,
    "resolution": 611.49622628138,
    "scale": 2311162.217155
   },
   {
    "level": 9,
    "resolution": 305.748113140558,
    "scale": 1155581.108577
   },
   {
    "level": 10,
    "resolution": 152.874056570411,
    "scale": 577790.554289
   },
   {
    "level": 11,
    "resolution": 76.4370282850732,
    "scale": 288895.277144
   }
  ]
 },
 "singleFusedMapCache": true,
 "capabilities": "TilesOnly,Tilemap",
 "minScale": 5.91657527591555E8,
 "maxScale": 0,
 "exportTilesAllowed": true,
 "maxExportTilesCount": 100000,
 "supportedExtensions": "",
 "serviceItemId": "1fbf918b0c0a4dfdbb24c798e435ce7b"
}
